BEGIN:VCALENDAR
VERSION:2.0
PRODID:-//AGES - ECPv6.15.20//NONSGML v1.0//EN
CALSCALE:GREGORIAN
METHOD:PUBLISH
X-ORIGINAL-URL:https://ages.com.au
X-WR-CALDESC:Events for AGES
REFRESH-INTERVAL;VALUE=DURATION:PT1H
X-Robots-Tag:noindex
X-PUBLISHED-TTL:PT1H
BEGIN:VTIMEZONE
TZID:Australia/Brisbane
BEGIN:STANDARD
TZOFFSETFROM:+1000
TZOFFSETTO:+1000
TZNAME:AEST
DTSTART:20190101T000000
END:STANDARD
END:VTIMEZONE
BEGIN:VEVENT
DTSTART;TZID=Australia/Brisbane:20200707T000000
DTEND;TZID=Australia/Brisbane:20200710T235959
DTSTAMP:20260421T004944
CREATED:20200121T031813Z
LAST-MODIFIED:20200121T032004Z
UID:10000070-1594080000-1594425599@ages.com.au
SUMMARY:2nd ISSA International
DESCRIPTION:2nd ISSA International\, Hands-On Intensive Master in Basic and Advanced Laparoscopic Surgical Anatomy of the Female Pelvis and Techniques
URL:https://ages.com.au/event/2nd-issa-international/
LOCATION:ICLO Training Center\, Verona\, Italy\, Via E. Torricelli 15/A\, Verona\, 37135\, Italy
CATEGORIES:Other Society Events
END:VEVENT
END:VCALENDAR