BEGIN:VCALENDAR
VERSION:2.0
PRODID:-//AGES - ECPv6.15.20//NONSGML v1.0//EN
CALSCALE:GREGORIAN
METHOD:PUBLISH
X-ORIGINAL-URL:https://ages.com.au
X-WR-CALDESC:Events for AGES
REFRESH-INTERVAL;VALUE=DURATION:PT1H
X-Robots-Tag:noindex
X-PUBLISHED-TTL:PT1H
BEGIN:VTIMEZONE
TZID:Australia/Brisbane
BEGIN:STANDARD
TZOFFSETFROM:+1000
TZOFFSETTO:+1000
TZNAME:AEST
DTSTART:20230101T000000
END:STANDARD
END:VTIMEZONE
BEGIN:VEVENT
DTSTART;TZID=Australia/Brisbane:20240614T080000
DTEND;TZID=Australia/Brisbane:20240615T170000
DTSTAMP:20260421T155732
CREATED:20240116T020301Z
LAST-MODIFIED:20240606T033557Z
UID:10000123-1718352000-1718470800@ages.com.au
SUMMARY:Surgical Robotics + Innovation Summit 2024
DESCRIPTION:This is Australia’s leading multidisciplinary and multi-specialty surgical robotics and innovation conference\, run by RPA Hospital’s Institute of Academic Surgery.  \n\n\n\nThe Summit brings together leading clinicians\, industry sponsors and researchers from Australia and around the world to share experiences and evidence\, with a view to improving patient outcomes through technology and collaboration.  \n\n\n\nIt will take place at the Sydney Masonic Centre on Friday 14 and Saturday 15 June 2024 and is open to clinicians and health administers interested in learning more about this field and the future of surgery.  \n\n\n\nIn 2024\, the Summit will feature Abstract Sessions\, an opportunity for clinicians at all stages of their careers to present on research that relates to surgical robotics or innovation. Abstract applications open on Thursday 1 February 2024. \n\n\n\nEarly bird tickets are now available via the website.
URL:https://ages.com.au/event/surgical-robotics-innovation-summit-2024/
LOCATION:Sydney Masonic Centre\, Sydney CBD\, 66 Goulburn Street\, Sydney\, NSW\, 2000\, Australia
CATEGORIES:Other Society Events
ATTACH;FMTTYPE=image/png:https://ages.com.au/wp-content/uploads/2024/01/Logo-Surgical-Robotics-Innovations-Summit-2024.png
END:VEVENT
BEGIN:VEVENT
DTSTART;TZID=Australia/Brisbane:20240615T000000
DTEND;TZID=Australia/Brisbane:20240616T235959
DTSTAMP:20260421T155732
CREATED:20240314T005428Z
LAST-MODIFIED:20241205T232458Z
UID:10000127-1718409600-1718582399@ages.com.au
SUMMARY:AGES Trainee Workshop 2024
DESCRIPTION:AGES Trainee Workshop 2024 \n\n\n\nThe aim of the course is to teach trainees of all levels the practice and principles of laparoscopic adnexal surgery and laparoscopic suturing techniques.  \n\n\n\nThe maximum number of delegates is 20. As places are limited\, delegates are encouraged to book early.   \n\n\n\nRegistration includes:Full workshop attendance for Saturday 15th & Sunday 16th June 2024Workshop lunch\, morning & afternoon teas and workshop dinner\, sponsored by Avant.    \n\n\n\nAGES MembershipComplimentary membership is available to RANZCOG trainees who reside in Australia or New Zealand in 2024. As you click through the registration process\, please ensure you sign up as an AGES Trainee Member to secure registration discounts. \n\n\n\nThe 2024 Trainee Workshop has sold out\, please email the AGES Secretariat to join the waitlist should there be any cancellations.  \n\n\n\n\n\n\nJOIN THE WAITLIST!\n\n\n\nVIEW PROGRAM\n\n\n\n\n**Please note that Members have priority in attending the AGES Trainee Workshop \n\n\n\n\n\n\n\n*Please note when adding this event to your calendar\, the event will populate with a generic time. It is vital that you check the current program available on the event website for the correct program timings before making travel arrangements.For any further information or assistance please contact the AGES Secretariat via email\, ages@yrd.com.au or phone\, 07 3368 2422.
URL:https://ages.com.au/event/ages-trainee-workshop-2024/
LOCATION:Kolling Institute\, 10 Westbourne Street\, St Leonards\, NSW\, 2064\, Australia
CATEGORIES:AGES Workshops & Courses
ATTACH;FMTTYPE=image/png:https://ages.com.au/wp-content/uploads/2024/03/trainnee-workshop-1.png
END:VEVENT
END:VCALENDAR