BEGIN:VCALENDAR
VERSION:2.0
PRODID:-//AGES - ECPv6.15.20//NONSGML v1.0//EN
CALSCALE:GREGORIAN
METHOD:PUBLISH
X-WR-CALNAME:AGES
X-ORIGINAL-URL:https://ages.com.au
X-WR-CALDESC:Events for AGES
REFRESH-INTERVAL;VALUE=DURATION:PT1H
X-Robots-Tag:noindex
X-PUBLISHED-TTL:PT1H
BEGIN:VTIMEZONE
TZID:Australia/Brisbane
BEGIN:STANDARD
TZOFFSETFROM:+1000
TZOFFSETTO:+1000
TZNAME:AEST
DTSTART:20230101T000000
END:STANDARD
END:VTIMEZONE
BEGIN:VEVENT
DTSTART;TZID=Australia/Brisbane:20240327T170000
DTEND;TZID=Australia/Brisbane:20240327T180000
DTSTAMP:20260420T073623
CREATED:20240216T041617Z
LAST-MODIFIED:20240516T060833Z
UID:10000126-1711558800-1711562400@ages.com.au
SUMMARY:AGES Webinar - Research Tips & Tricks
DESCRIPTION:The AGES Webinar – Research Tips & Tricks will be held on Wednesday 27th March 2024 at 5:00pm AEST.  \n\n\n\nAGES Webinar – Research Tips & Tricks Wednesday 27th March 20243:00pm AWST5:00pm AEST6:00pm AEDT9.00pm NZST  \n\n\n\nJoin live on the evening to be involved in live Q&A\, or alternatively\, watch it later through the members’ section of our AGES website. \n\n\n\n\n\n\n\n\n\nAGES Events & Workshops +61 7 3368 2422ages.com.auages@yrd.com.au
URL:https://ages.com.au/event/ages-webinar-research-tips-tricks/
LOCATION:NSW
CATEGORIES:Webinars
ATTACH;FMTTYPE=image/jpeg:https://ages.com.au/wp-content/uploads/2020/01/shutterstock_1209806035-scaled.jpg
END:VEVENT
END:VCALENDAR