BEGIN:VCALENDAR
VERSION:2.0
PRODID:-//AGES - ECPv6.15.20//NONSGML v1.0//EN
CALSCALE:GREGORIAN
METHOD:PUBLISH
X-ORIGINAL-URL:https://ages.com.au
X-WR-CALDESC:Events for AGES
REFRESH-INTERVAL;VALUE=DURATION:PT1H
X-Robots-Tag:noindex
X-PUBLISHED-TTL:PT1H
BEGIN:VTIMEZONE
TZID:Australia/Melbourne
BEGIN:STANDARD
TZOFFSETFROM:+1100
TZOFFSETTO:+1000
TZNAME:AEST
DTSTART:20230401T160000
END:STANDARD
BEGIN:DAYLIGHT
TZOFFSETFROM:+1000
TZOFFSETTO:+1100
TZNAME:AEDT
DTSTART:20230930T160000
END:DAYLIGHT
BEGIN:STANDARD
TZOFFSETFROM:+1100
TZOFFSETTO:+1000
TZNAME:AEST
DTSTART:20240406T160000
END:STANDARD
BEGIN:DAYLIGHT
TZOFFSETFROM:+1000
TZOFFSETTO:+1100
TZNAME:AEDT
DTSTART:20241005T160000
END:DAYLIGHT
BEGIN:STANDARD
TZOFFSETFROM:+1100
TZOFFSETTO:+1000
TZNAME:AEST
DTSTART:20250405T160000
END:STANDARD
BEGIN:DAYLIGHT
TZOFFSETFROM:+1000
TZOFFSETTO:+1100
TZNAME:AEDT
DTSTART:20251004T160000
END:DAYLIGHT
END:VTIMEZONE
BEGIN:VTIMEZONE
TZID:Australia/Brisbane
BEGIN:STANDARD
TZOFFSETFROM:+1000
TZOFFSETTO:+1000
TZNAME:AEST
DTSTART:20230101T000000
END:STANDARD
END:VTIMEZONE
BEGIN:VEVENT
DTSTART;TZID=Australia/Melbourne:20240504T090000
DTEND;TZID=Australia/Melbourne:20240504T173000
DTSTAMP:20260424T084224
CREATED:20240404T050803Z
LAST-MODIFIED:20240424T042913Z
UID:10000129-1714813200-1714843800@ages.com.au
SUMMARY:GYN Connect 2024
DESCRIPTION:Expand your da Vinci surgery knowledge with support from your peers in an interactive setting. For experienced surgeons and those new to da Vinci surgical systems\, GYN Connect will provide the opportunity to learn\, meet other surgeons\, and stay updated with this fast-moving field.
URL:https://ages.com.au/event/gyn-connect-2024/
LOCATION:MCEC\, Melbourne\, 1 Convention Centre Place\, South Wharf\, Melbourne\, VIC\, 3006\, Australia
CATEGORIES:Industry Partner Events,Other Society Events
END:VEVENT
BEGIN:VEVENT
DTSTART;TZID=Australia/Brisbane:20240511T071500
DTEND;TZID=Australia/Brisbane:20240511T173000
DTSTAMP:20260424T084224
CREATED:20231127T222907Z
LAST-MODIFIED:20241205T231858Z
UID:10000120-1715411700-1715448600@ages.com.au
SUMMARY:AGES Lap-Dissection Workshop 2024 - May
DESCRIPTION:**This course is for members only. Please visit the members tab of the AGES website to join or renew now** \n\n\n\nThe Lap D Workshop is designed for Specialist and Trainee Obstetricians and Gynaecologists with laparoscopic skills who wish to expand their knowledge of pelvic and abdominal retroperitoneal anatomy while advancing their laparoscopic surgical dissection techniques.   \n\n\n\nAGES aims to allow access to quality anatomy teaching by providing workshops focusing on a functional laparoscopic approach to pelvic anatomy.  The dissection workshop allows eighteen (18) registrants to participate in lectures\, undertake anatomical dissection on female fresh frozen donors and interact with highly skilled laparoscopic surgeons as they delve into the anatomical aspects of the female pelvis.   \n\n\n\nAn introductory lecture series is followed by two\, three hour operating and dissection sessions using fresh frozen female donors.  \n\n\n\nThe workshops are held at the Medical Engineering and Research Facility (MERF)\, Queensland University of Technology (QUT) facility in Brisbane.  \n\n\n\nThree participants are assigned to each donor and will be closely supervised by an experienced advanced laparoscopic surgical instructor. Each participant will be able to operate\, assist and observe to optimise the learning experience as they rotate evenly through each step.   \n\n\n\nThe workshop will focus on dissection of the pelvic side wall\, with particular emphasis on the surgical layers\, spaces and anatomical structures contained within.  \n\n\n\nRetroperitoneal spaces around the bladder\, pelvic floor\, large bowel and kidneys will all be explored.   \n\n\n\nAll participants will be provided with pre-reading and copies of the presentations a week prior to the workshop.   \n\n\n\nRegistrants are expected to confidently increase their anatomical knowledge and awareness\, allowing for improved surgical confidence\, outcomes and reduced complications for their patients.  \n\n\n\nRegistrations will be opening in 2024! Check back regularly for all updates about Lap-D in 2024!
URL:https://ages.com.au/event/ages-lap-dissection-workshop-may-2024/
LOCATION:MERF Brisbane\, Staib Road\, Chermside\, QLD\, 4032\, Australia
CATEGORIES:AGES Lap-D Courses,AGES Workshops & Courses
ATTACH;FMTTYPE=image/png:https://ages.com.au/wp-content/uploads/2021/11/AGES-Lap-d-banners_1920-x-1008-03.png
ORGANIZER;CN="AGES":MAILTO:secretariat@ages.com.au
END:VEVENT
BEGIN:VEVENT
DTSTART;TZID=Australia/Brisbane:20240512T090000
DTEND;TZID=Australia/Brisbane:20240512T164500
DTSTAMP:20260424T084224
CREATED:20231127T221943Z
LAST-MODIFIED:20241205T231854Z
UID:10000119-1715504400-1715532300@ages.com.au
SUMMARY:AGES Virtual Lap-Demonstration Workshop 2024 - May
DESCRIPTION:The AGES Laparoscopic Anatomy & Pelvic Demonstration Workshop is suitable for all levels of RANZCOG trainees and specialists.   \n\n\n\nIt is a single day\, intensive pelvic anatomy primer for those wishing to expand their knowledge of what lies beneath the pelvic and abdominal peritoneum.  \n\n\n\nAGES aims to allow access to quality anatomy teaching by providing several courses that focus on a functional laparoscopic approach to pelvic anatomy.  The demonstration course allows for thirty registrants to participate in lectures\, watch live surgery and interact with highly skilled laparoscopic surgeons as they delve into the anatomical aspects of the female pelvis.   \n\n\n\nThe dissection is performed on female fresh frozen donors at the Medical Engineering and Research Facility (MERF)\, Queensland University of Technology (QUT) facility in Brisbane.   \n\n\n\nHighly interactive presentations are followed by relevant focused dissections. These are performed on six compartments of the pelvis and abdomen.   \n\n\n\nAll participants will be provided with pre-reading and copies of the presentations a week prior to the workshop.   \n\n\n\nRegistrants can expect to increase their anatomical knowledge and awareness allowing for improved surgical confidence and outcomes and reduced patient complications.  \n\n\n\nRegistrations are now open!  \n\n\n\n\n\n\n\n\n\n\n\nPlease note when adding this event to your calendar\, the event will populate with a generic time. It is vital that you check the current program available on the event website for the correct program timings before making travel arrangements.   For any further information or assistance\, please contact the AGES Secretariat via email\, ages@yrd.com.au or phone\, 07 3368 2422.
URL:https://ages.com.au/event/ages-lap-demonstration-workshop-2024-may12/
LOCATION:Virtual Event\, Australia
CATEGORIES:AGES Lap-D Courses,AGES Workshops & Courses,Focus
ATTACH;FMTTYPE=image/png:https://ages.com.au/wp-content/uploads/2019/09/AGES-Lap-D_1920-x-1008-02.png
ORGANIZER;CN="AGES":MAILTO:secretariat@ages.com.au
END:VEVENT
BEGIN:VEVENT
DTSTART;TZID=Australia/Brisbane:20240516T180000
DTEND;TZID=Australia/Brisbane:20240516T190000
DTSTAMP:20260424T084224
CREATED:20240410T020832Z
LAST-MODIFIED:20240619T055005Z
UID:10000130-1715882400-1715886000@ages.com.au
SUMMARY:AGES 2024 Webinar #2 - Apical Repair and Support
DESCRIPTION:The AGES Webinar – Apical Repair and Support will be held on Thursday 16 May 2024 at 6:00pm AEST. \n\n\n\nJoin us for an informative webinar by Dr Salwan Al-Salihi and Dr Tanaka Dune on apical support for prolapse\, focusing on surgical techniques and best practices during hysterectomy and uterine-preserving procedures. This session is designed for healthcare professionals who want to expand their knowledge and skills in surgically managing pelvic organ prolapse effectively. Our expert speakers will discuss the latest approaches to provide optimal apical support and improve patient outcomes.  \n\n\n\nDon’t miss this opportunity to learn from industry leaders and enhance your surgical practice!  \n\n\n\nRegister now to secure your spot. \n\n\n\n\n\n\n\nAGES Webinar – Apical Repair and SupportThursday 16 May 20244:00pm AWST6:00pm AEST8:00pm NZST \n\n\n\nJoin live on the evening to be involved in live Q&A\, or alternatively\, watch it later through the members’ section of our AGES website. \n\n\n\n\n\n\n\n\n\nAGES Events & Workshops +61 7 3368 2422ages.com.auages@yrd.com.au
URL:https://ages.com.au/event/ages-webinar-apical-repair-and-support/
CATEGORIES:Webinars
ATTACH;FMTTYPE=image/png:https://ages.com.au/wp-content/uploads/2024/05/webinar-1.png
END:VEVENT
END:VCALENDAR