BEGIN:VCALENDAR
VERSION:2.0
PRODID:-//AGES - ECPv6.15.20//NONSGML v1.0//EN
CALSCALE:GREGORIAN
METHOD:PUBLISH
X-WR-CALNAME:AGES
X-ORIGINAL-URL:https://ages.com.au
X-WR-CALDESC:Events for AGES
REFRESH-INTERVAL;VALUE=DURATION:PT1H
X-Robots-Tag:noindex
X-PUBLISHED-TTL:PT1H
BEGIN:VTIMEZONE
TZID:Australia/Brisbane
BEGIN:STANDARD
TZOFFSETFROM:+1000
TZOFFSETTO:+1000
TZNAME:AEST
DTSTART:20230101T000000
END:STANDARD
END:VTIMEZONE
BEGIN:VEVENT
DTSTART;TZID=Australia/Brisbane:20240222T000000
DTEND;TZID=Australia/Brisbane:20240224T235959
DTSTAMP:20260424T005058
CREATED:20240206T012522Z
LAST-MODIFIED:20240206T012527Z
UID:10000125-1708560000-1708819199@ages.com.au
SUMMARY:ASPIRE Endometriosis Masterclass
DESCRIPTION:The Auckland ASPIRE Endometriosis Masterclass will bring together many leaders in the Field of Endometriosis from Asia Pacifica and beyond\, uniting them with New Zealand leaders in the field\, a country where multidisciplinary care and patient partnership in managing endometriosis has been given a high priority we believe longer than anywhere else in the world.  It promises to be a cutting edge meeting exploring all the new developments in endometriosis-related fertility issues\, from the latest on how endometriosis and adenomyosis can negatively impact fertility right through to up-to-the-minute evidence based fertility treatment for patients suffering from adenomyosis-related and endometriosis-related infertility – how to customise and optimise treatment for your patients in a precision medicine approach to endometriosis-related infertility.  It will also explore and develop a consensus on the structure of care in endometriosis\, focusing on networks of expertise and centres of excellence\, as well as a consensus on fertility preservation for endometriosis sufferers – and this is a unique opportunity for attendees to be involved in such a consensus process.  Not to mention that February is the perfect time of year to spend time in one of the most beautiful settings on earth. \n\n\n\nFind out more here.
URL:https://ages.com.au/event/aspire-endometriosis-masterclass/
LOCATION:Rydges Auckland\, 59 Federal Street\,\, Auckland\, Auckland\, 1010\, New Zealand
CATEGORIES:Other Society Events
END:VEVENT
BEGIN:VEVENT
DTSTART;TZID=Australia/Brisbane:20240229T000000
DTEND;TZID=Australia/Brisbane:20240302T235959
DTSTAMP:20260424T005058
CREATED:20230523T072806Z
LAST-MODIFIED:20231201T221145Z
UID:10000109-1709164800-1709423999@ages.com.au
SUMMARY:AGES Annual Scientific Meeting 2024
DESCRIPTION:The AGES Annual Scientific Meeting will be held on Thursday\, 29th February to Saturday 2nd March 2024 at the Gold Coast Convention and Exhibition Centre. \n\n\n\nThis is the first time we have held an ASM at the Gold Coast\, reflecting the significant growth in the area.   We have chosen the theme “How do I do That?”.  This will be a meeting with practical tips for our delegates to take back to their practices.  We have sessions focusing on robotic surgery\, hysteroscopic surgery\, fertility and some surprises hidden in the program.  Following last year’s highly popular live Morbidity and Mortality meeting\, we will host another live event featuring some AGES senior surgeons\, followed by guidance on doctor’s wellbeing and coaching from experts in their field.  \n\n\n\nThe three-day program will include Free Communications\, Video Presentations and both Plenary and Concurrent sessions.  Our International Faculty comprises Dr Tanvir Singh\, a hysteroscopic specialist from Hyderabad\, and Dr Leslie Kardos\, a robotic specialist from San Francisco. Together\, they will provide insights into different techniques for minimally invasive surgery.  The ASM program will be continually updated on the website\, so keep checking back for all the live updates!  \n\n\n\nWe welcome you to join us and make this meeting a memorable occasion for all. 
URL:https://ages.com.au/event/ages-annual-scientific-meeting-2024/
LOCATION:Gold Coast Convention and Exhibition Centre\, 2684-2690 Gold Coast Hwy\, Broadbeach\, QLD\, 4218\, Australia
CATEGORIES:AGES Meetings & Conferences,Focus
ATTACH;FMTTYPE=image/png:https://ages.com.au/wp-content/uploads/2023/05/AGES-ASM-2024_1920-x-557-px_TILE-v2.png
ORGANIZER;CN="AGES":MAILTO:secretariat@ages.com.au
END:VEVENT
END:VCALENDAR