BEGIN:VCALENDAR
VERSION:2.0
PRODID:-//AGES - ECPv6.15.20//NONSGML v1.0//EN
CALSCALE:GREGORIAN
METHOD:PUBLISH
X-WR-CALNAME:AGES
X-ORIGINAL-URL:https://ages.com.au
X-WR-CALDESC:Events for AGES
REFRESH-INTERVAL;VALUE=DURATION:PT1H
X-Robots-Tag:noindex
X-PUBLISHED-TTL:PT1H
BEGIN:VTIMEZONE
TZID:Australia/Brisbane
BEGIN:STANDARD
TZOFFSETFROM:+1000
TZOFFSETTO:+1000
TZNAME:AEST
DTSTART:20220101T000000
END:STANDARD
END:VTIMEZONE
BEGIN:VEVENT
DTSTART;TZID=Australia/Brisbane:20231004T190000
DTEND;TZID=Australia/Brisbane:20231004T203000
DTSTAMP:20260424T044012
CREATED:20230908T035417Z
LAST-MODIFIED:20230918T052336Z
UID:10000116-1696446000-1696451400@ages.com.au
SUMMARY:AGES Webinar - Morbidity & Mortality (M&M)
DESCRIPTION:The Morbidity & Mortality (M&M) webinar held in conjunction with SurgicalPerformance will give clinicians an opportunity to review medical management\, create self-awareness\, generate insights about patient care and identify areas of improvement.  \n\n\n\nThe webinar will run on Wednesday 4th October 2023  at 7.00pm AEST. \n\n\n\nAGES M&M Live Webinar – Member’s only!Wednesday\, 4th October 20235.00pm AWST7.00pm AEST7.30pm ACDT8.00pm AEDT10.00pm NZST \n\n\n\nJoin live on the evening to be involved in live Q&A\, or alternatively\, watch it later through the members’ section of our AGES website.
URL:https://ages.com.au/event/ages-webinar-morbidity-mortality-mm/
LOCATION:Virtual Event (ZOOM Webinar)
CATEGORIES:Focus,Webinars
ATTACH;FMTTYPE=image/png:https://ages.com.au/wp-content/uploads/2023/09/MicrosoftTeams-image-7.png
ORGANIZER;CN="AGES Events & Workshops":MAILTO:ages@yrd.com.au
END:VEVENT
BEGIN:VEVENT
DTSTART;TZID=Australia/Brisbane:20231010T103000
DTEND;TZID=Australia/Brisbane:20231011T173000
DTSTAMP:20260424T044012
CREATED:20230125T010950Z
LAST-MODIFIED:20230127T052229Z
UID:10000103-1696933800-1697045400@ages.com.au
SUMMARY:Medtronic/Monash Laparoscopic Gynaecology Clinical Immersion - October Workshop
DESCRIPTION:The aim of this two-day course is to focus on developing surgeons who already perform vaginal hysterectomy and laparoscopic adnexal surgery and expand their knowledge of minimally invasive gynaecological techniques. Surgeons will be exposed to techniques and the steps that are required to perform laparoscopic gynaecological procedures.  \n\n\n\nThis educational program is designed for Specialists in gynaecology looking to advance their knowledge and skill in laparoscopic hysterectomy techniques including general and sub-specialty gynaecologists and Fellows.  \n\n\n\nThe visiting delegates will have the opportunity to discuss in detail anatomy and physiology\, tips and tricks specific to the technique described and performed by the course facilitators.  \n\n\n\nLIMITED SPOTS AVAILABLE – Register Now! \n\n\n\nMedtronic Monash Laparoscopic Gynaecology Clinical Workshop  \n\n\n\nDate: October 10th-11th 2023 Venue: Monash Medical Centre (Moorabbin) 823-865 Centre Rd\, East Bentleigh VIC 3165Time: October 10th 10.30am – 6.30pm October 11th 8.00am – 5.30pm  \n\n\n\nClick Here to register for the Clinical Immersion  \n\n\n\nClick Here to view more information about the 2023 Medtronic Monash Workshop
URL:https://ages.com.au/event/medtronic-monash-laparoscopic-gynaecology-clinical-immersion-october-workshop/
CATEGORIES:Industry Partner Events
END:VEVENT
BEGIN:VEVENT
DTSTART;TZID=Australia/Brisbane:20231020T000000
DTEND;TZID=Australia/Brisbane:20231021T235959
DTSTAMP:20260424T044012
CREATED:20221125T002640Z
LAST-MODIFIED:20230905T025645Z
UID:10000033-1697760000-1697932799@ages.com.au
SUMMARY:Striving to Thrive: Beyond the Pelvis Symposium 2023
DESCRIPTION:Dear colleagues\,   Welcome to Melbourne for a meeting that redefines the focus of our 3rd meeting for the year.   COVID-19 brought about significant changes to the way we live\, work\, and interact with others\, creating new challenges and stressors for people to navigate.  In the midst of the uncertainty\, it also brought opportunities for growth and adaptation. Many people found new ways to connect with others\, pursue hobbies and interests\, and find meaning and purpose in their lives.   But are you still a little lost? A little tired? A bit flat?   The theme of “Striving to Thrive” aims to replenish a void you may have sensed within your professional and personal growth trajectory. This meeting will strive to cultivate resilience\, creativity\, surgical excellence and innovation\, all important factors in promoting thriving.   The two-day program has been written with similar diversity to appeal to the generalist and advanced laparoscopists. We will have sessions on pelvic floor and infertility and modern surgical techniques. We will diversify and update you on topics you had forgotten you had remembered. However\, we will also be offering sessions that provoke you to review your clinical and business practice and your personal lives! We are fortunate to have some wonderful local speakers bringing their expertise to the program that will challenge\, inspire and educate you.   Melbourne is a vibrant and diverse city known for its world-class coffee culture\, thriving arts scene\, and multicultural cuisine. It boasts stunning architecture\, beautiful parks and gardens\, and a vibrant nightlife. The city is hosting the International Jazz festival\, the Fringe festival and Melbourne Fashion Week in October\, not to mention Sam Smith and Guns N Roses.   We are sure you can find any number of reasons to join us and we look forward to catching up with you all.   Dr Shami Kathurusinghe & Dr Catarina Ang  Co-Chairs\,  AGES   
URL:https://ages.com.au/event/ages-xxiii-pelvic-floor-symposium-2023/
LOCATION:Sofitel on Collins\, Melbourne\, 25 Collins Street\, Melbounre\, VIC\, 3000\, Australia
CATEGORIES:AGES Meetings & Conferences,Focus
ATTACH;FMTTYPE=image/jpeg:https://ages.com.au/wp-content/uploads/2022/11/PFS2023-e1693882588369.jpg
ORGANIZER;CN="AGES":MAILTO:secretariat@ages.com.au
END:VEVENT
BEGIN:VEVENT
DTSTART;TZID=Australia/Brisbane:20231021T071500
DTEND;TZID=Australia/Brisbane:20231021T173000
DTSTAMP:20260424T044012
CREATED:20230214T014402Z
LAST-MODIFIED:20230613T041236Z
UID:10000107-1697872500-1697909400@ages.com.au
SUMMARY:SOLD OUT - AGES Laparoscopic Anatomy & Pelvic Dissection (Lap-D) Workshop - October 21 2023
DESCRIPTION:The AGES Lap-D October Workshop is currently SOLD OUT. Please email ages@yrd.com.au to be added to the waitlist.  \n\n\n\nFor more information regarding our Lap-D Workshops\, please visit the website below.
URL:https://ages.com.au/event/ages-laparoscopic-anatomy-pelvic-dissection-lap-d-workshop-october-21-2023/
LOCATION:MERF Brisbane\, Staib Road\, Chermside\, QLD\, 4032\, Australia
CATEGORIES:AGES Workshops & Courses
ATTACH;FMTTYPE=image/png:https://ages.com.au/wp-content/uploads/2021/11/AGES-Lap-d-banners_1920-x-1008-12.png
END:VEVENT
END:VCALENDAR