BEGIN:VCALENDAR
VERSION:2.0
PRODID:-//AGES - ECPv6.15.20//NONSGML v1.0//EN
CALSCALE:GREGORIAN
METHOD:PUBLISH
X-ORIGINAL-URL:https://ages.com.au
X-WR-CALDESC:Events for AGES
REFRESH-INTERVAL;VALUE=DURATION:PT1H
X-Robots-Tag:noindex
X-PUBLISHED-TTL:PT1H
BEGIN:VTIMEZONE
TZID:Australia/Brisbane
BEGIN:STANDARD
TZOFFSETFROM:+1000
TZOFFSETTO:+1000
TZNAME:AEST
DTSTART:20190101T000000
END:STANDARD
END:VTIMEZONE
BEGIN:VEVENT
DTSTART;TZID=Australia/Brisbane:20200101T000000
DTEND;TZID=Australia/Brisbane:20201231T235900
DTSTAMP:20260422T083540
CREATED:20200124T015738Z
LAST-MODIFIED:20200124T051527Z
UID:10000080-1577836800-1609459140@ages.com.au
SUMMARY:AGES Seminars - Who do you want to be when you grow up?
DESCRIPTION:BRISBANE  \n\n\n\nPERTH \n\n\n\nSYDNEY \n\n\n\nLocations\, dates and times to be confirmed
URL:https://ages.com.au/event/ages-seminars-who-do-you-want-to-be-when-you-grow-up/
ATTACH;FMTTYPE=image/png:https://ages.com.au/wp-content/uploads/2020/01/AGES-Upcoming-event_1920-x-1008-01.png
END:VEVENT
BEGIN:VEVENT
DTSTART;TZID=Australia/Brisbane:20201106T000000
DTEND;TZID=Australia/Brisbane:20201114T235900
DTSTAMP:20260422T083540
CREATED:20191211T005354Z
LAST-MODIFIED:20201013T025424Z
UID:10000067-1604620800-1605398340@ages.com.au
SUMMARY:The #AAGL20 Virtual Global Congress
DESCRIPTION:The #AAGL20 Global Congress is coming to YOU! Join us for the world’s largest meeting of MIG surgeons happening virtually\, November 6-14\, 2020.  #AAGL20 includes over 80 scientific sessions with 18 live streamed surgeries\, 95+hours of CME\, 100 E-poster presentations\, exhibit hall\, networking events and more. \n\n\n\n#AAGL20 will deliver high-quality education and scientific programming that our members have come to expect at an in-person meeting. The challenges presented by the COVID pandemic only reinforce this year’s Breaking Barriers theme. \n\n\n\nFor one all-inclusive registration rate\, attendees receive the same robust and relevant content as the in-person meeting\, without travel costs or extended time away from your family or practice!  Registration includes nine days of scientific programming\, postgraduate courses\, networking\, and the best in MIGS training and education over 80 sessions including: \n\n\n\n24 Open Communication Sessions19 Postgraduate Courses (presented in two parts: 3 hours of pre-recorded content\, available October 19th followed by one hour of live interaction starting November 6th) 18 Live Surgeries8 Surgical Tutorials9 Panel Sessions8 Plenary Sessions3 General Sessions The Scientific Program Committee has been working hard to bring you programming that will exceed your expectations and deliver a brand new and exciting program where learning\, networking\, and engaging – will be expanded to a fully virtual global experience!\n\n\n\nRegistration is OPEN.  See you online! \n\n\n\nQuestions:  meetings@aagl.org
URL:https://ages.com.au/event/aagl20-virtual-global-congress/
LOCATION:AAGL Virtual Event\, Los Angeles\, United States
CATEGORIES:Other Society Events
ATTACH;FMTTYPE=image/jpeg:https://ages.com.au/wp-content/uploads/2019/12/AAGL20-Virtual-Global-Congress.jpg
END:VEVENT
BEGIN:VEVENT
DTSTART;TZID=Australia/Brisbane:20201112T000000
DTEND;TZID=Australia/Brisbane:20201113T235959
DTSTAMP:20260422T083540
CREATED:20200129T030403Z
LAST-MODIFIED:20200129T030404Z
UID:10000001-1605139200-1605311999@ages.com.au
SUMMARY:45th International Dexeus Forum
DESCRIPTION:
URL:https://ages.com.au/event/45th-international-dexeus-forum/
LOCATION:Barcelona\, Barcelona\, Spain
CATEGORIES:Other Society Events
END:VEVENT
BEGIN:VEVENT
DTSTART;TZID=Australia/Brisbane:20201119T000000
DTEND;TZID=Australia/Brisbane:20201121T235959
DTSTAMP:20260422T083540
CREATED:20200121T042511Z
LAST-MODIFIED:20200121T043743Z
UID:10000071-1605744000-1606003199@ages.com.au
SUMMARY:28th World Congress on Controversies in Obstetrics\, Gynecology & Infertility
DESCRIPTION:3 Reasons to Attend COGI\n\n\n\n1. Addresses the most controversial issues facing clinicians and physicians in their daily practice.2. Ample time after each lecture and debate for speaker-audience discussion.3. Chance to interact with colleagues\, friends and experts from around the world in all areas of the field.
URL:https://ages.com.au/event/28th-world-congress-on-controversies-in-obstetrics-gynecology-infertility/
LOCATION:Mercure Hotel MOA Berlin\, Birkenstraße 21-23\, Berlin\, 10559\, Germany
CATEGORIES:Other Society Events
END:VEVENT
BEGIN:VEVENT
DTSTART;TZID=Australia/Brisbane:20201126T190000
DTEND;TZID=Australia/Brisbane:20201126T210000
DTSTAMP:20260422T083540
CREATED:20201102T235603Z
LAST-MODIFIED:20201125T014650Z
UID:10000084-1606417200-1606424400@ages.com.au
SUMMARY:Sydney Seminar - Who Do You Want To Be When You Grow Up?
DESCRIPTION:Have you ever wondered…• How much training do you need?• How to get into a job\, and how difficult it may be?• What job opportunities are there in both public and private?• What are the overheads?• How you could change your future job prospects?• What your income prospects will be?• How you can deal with being on call and all the other onerous stuff? \n\n\n\nIf you want answers to any of the above\, join us! \n\n\n\nLIMITED SPOTS AVAILABLE – Register Now! \n\n\n\nSydney Seminar – Who Do You Want To Be When You Grow UpAvant Mutual Offices\, Level 6\, Tower 3\, ‘Darling Park’ 201 Sussex Street SydneyThursday\, 26th November 20207.00pm AEDTTo register\, please click hereTo view the program\, please click here \n\n\n\nThank you to our Seminar Sponsor: \n\n\n\n\n\n\n\nThis seminar will feature NSW based presenters only to assist you with understanding your local area.QLD Virtual Seminar recording available now – https://ages.com.au/resources/ages-webinars/
URL:https://ages.com.au/event/sydney-seminar-who-do-you-want-to-be-when-you-grow-up/
CATEGORIES:AGES Workshops & Courses,Focus
ATTACH;FMTTYPE=image/png:https://ages.com.au/wp-content/uploads/2020/01/AGES-Upcoming-event_1920-x-1008-01.png
END:VEVENT
BEGIN:VEVENT
DTSTART;TZID=Australia/Brisbane:20201128T070000
DTEND;TZID=Australia/Brisbane:20201128T173000
DTSTAMP:20260422T083540
CREATED:20190920T003334Z
LAST-MODIFIED:20200925T062631Z
UID:10000054-1606546800-1606584600@ages.com.au
SUMMARY:AGES Lap-Dissection Workshop 1* CANCELLED
DESCRIPTION:This course is for members only. Please visit the members tab of the AGES website or click here to join or renew now \n\n\n\nThere was a course that was originally scheduled for the 4th of April\, that has now been rescheduled to the 29th of November. All those delegates registered to attend on the 4th of April have had their registrations transferred to the 29th of November. Delegates registered to attend the Dissection workshops on the 28th\, there has been NO CHANGE to your registration or schedule at this time.    \n\n\n\nWorkshop 1: Saturday 28th  November 2020**Workshop 2: Sunday 29th November 2020**MERF\, Brisbane – 0700 – 1730    \n\n\n\n**Workshops 1 & 2 are the same workshop\, you do not need to register for both! \n\n\n\nThis workshop is designed for gynaecologists with laparoscopic skills who wish to expand their knowledge of pelvic and abdominal retroperitoneal anatomy while advancing their laparoscopic surgical skills. \n\n\n\nHands-on laparoscopic cadaveric sessions utilising fresh frozen\, female cadavers follow the relevant anatomical ‘fast’ lecture series. \n\n\n\nThe workshop will be held at the Medical Engineering and Research Facility (MERF)\, Queensland University of Technology (QUT) facility in Brisbane. \n\n\n\nThree participants are assigned to each donor and will be closely supervised by an experienced advanced laparoscopic surgical instructor. Each participant will have the opportunity to operate\, assist and observe to optimise the learning experience as they rotate evenly through each step. \n\n\n\nThe course will focus on demonstration of the pelvic sidewall dissection with a particular focus on the surgical layers and surgical spaces with the anatomical structure contained within them. Retroperitoneal spaces around the bladder\, pelvic floor\, large bowel and kidneys will all be explored. \n\n\n\nThe registrants will have the opportunity to complete the anatomical dissection required to perform a Total Laparoscopic Hysterectomy. There is a very limited number of 18 delegates able to participate. \n\n\n\nAll participants will be provided with pre-reading and copies of the presentations a week prior to the workshop. \n\n\n\nRegistrants are expected to confidently increase their anatomical knowledge and awareness\, allowing for improved surgical outcomes and reduced complications for their patients. \n\n\n\n\n\n\n\n\n\n\n\n\n\n* Please ensure that you check back here for the most up to date information regarding dates as we closely monitor the ongoing pandemic and its impact on the scheduling of AGES workshops and events.  \n\n\n\nPlease note when adding this event to your calendar\, the event will populate with a generic time. It is vital that you check the current program available on the event website for the correct program timings before making travel arrangements.   For any further information or assistance please contact the AGES Secretariat via email\, ages@yrd.com.au or phone\, 07 3368 2422.
URL:https://ages.com.au/event/ages-lap-dissection-workshop-2/
LOCATION:MERF Brisbane\, Staib Road\, Chermside\, QLD\, 4032\, Australia
CATEGORIES:AGES Lap-D Courses
ATTACH;FMTTYPE=image/png:https://ages.com.au/wp-content/uploads/2019/09/AGES-Lap-D_1920-x-1008-01.png
ORGANIZER;CN="AGES":MAILTO:secretariat@ages.com.au
END:VEVENT
BEGIN:VEVENT
DTSTART;TZID=Australia/Brisbane:20201129T070000
DTEND;TZID=Australia/Brisbane:20201129T173000
DTSTAMP:20260422T083540
CREATED:20190920T003136Z
LAST-MODIFIED:20200925T062636Z
UID:10000053-1606633200-1606671000@ages.com.au
SUMMARY:AGES Lap-Dissection Workshop 2* CANCELLED
DESCRIPTION:**This course is for members only. Please visit the member’s tab of the AGES website or click here to join or renew now** \n\n\n\nThis course was originally scheduled for the 4th of April\, rescheduled to the 29th of November. All those delegates registered to attend on the 4th of April have had their registrations transferred to the 29th of November.  \n\n\n\nWorkshop 1: Saturday 28th  November 2020**Workshop 2: Sunday 29th November 2020**MERF\, Brisbane – 0700 – 1730    \n\n\n\n**Workshops 1 & 2 are the same workshop\, you do not need to register for both! \n\n\n\n \n\n\n\nThis workshop is designed for gynaecologists with laparoscopic skills who wish to expand their knowledge of pelvic and abdominal retroperitoneal anatomy while advancing their laparoscopic surgical skills. \n\n\n\nHands-on laparoscopic cadaveric sessions utilising fresh frozen\, female cadavers follow the relevant anatomical ‘fast’ lecture series. \n\n\n\nThe workshop will be held at the Medical Engineering and Research Facility  (MERF)\, Queensland University of Technology (QUT) facility in Brisbane. \n\n\n\nThree participants are assigned to each donor and will be closely supervised by an experienced advanced laparoscopic surgical instructor. Each participant will have the opportunity to operate\, assist and observe to optimise the learning experience as they rotate evenly through each step. \n\n\n\nThe course will focus on demonstration of the pelvic sidewall dissection with a particular focus on the surgical layers and surgical spaces with the anatomical structure contained within them.  Retroperitoneal spaces around the bladder\, pelvic floor\, large bowel\, and kidneys will all be explored. \n\n\n\nThe registrants will have the \nopportunity to complete the anatomical dissection required to perform a \nTotal Laparoscopic Hysterectomy. There is a very limited number of 18 \ndelegates able to participate. \n\n\n\nAll participants will be provided with pre-reading and copies of the presentations a week prior to the workshop. \n\n\n\nRegistrants  are expected to confidently increase their anatomical knowledge and  awareness\, allowing for improved surgical outcomes and reduced complications for their patients. \n\n\n\n\n\n\n\n\n\n\n\n\n\n*Please ensure that you check back here for the most up to date information regarding dates as we closely monitor the ongoing pandemic and its impact on the scheduling of AGES workshops and events. \n\n\n\nPlease note when adding this event to your calendar\, the event will populate with a generic time. It is vital that you check the current program available on the event website for the correct program timings before making travel arrangements.For any further information or assistance please contact the AGES Secretariat via email\, ages@yrd.com.au or phone\, 07 3368 2422.
URL:https://ages.com.au/event/ages-lap-dissection-workshop/
LOCATION:MERF Brisbane\, Staib Road\, Chermside\, QLD\, 4032\, Australia
CATEGORIES:AGES Lap-D Courses
ATTACH;FMTTYPE=image/png:https://ages.com.au/wp-content/uploads/2019/09/AGES-Lap-D_1920-x-1008-01.png
ORGANIZER;CN="AGES":MAILTO:secretariat@ages.com.au
END:VEVENT
END:VCALENDAR