BEGIN:VCALENDAR
VERSION:2.0
PRODID:-//AGES - ECPv6.15.20//NONSGML v1.0//EN
CALSCALE:GREGORIAN
METHOD:PUBLISH
X-WR-CALNAME:AGES
X-ORIGINAL-URL:https://ages.com.au
X-WR-CALDESC:Events for AGES
REFRESH-INTERVAL;VALUE=DURATION:PT1H
X-Robots-Tag:noindex
X-PUBLISHED-TTL:PT1H
BEGIN:VTIMEZONE
TZID:Australia/Brisbane
BEGIN:STANDARD
TZOFFSETFROM:+1000
TZOFFSETTO:+1000
TZNAME:AEST
DTSTART:20250101T000000
END:STANDARD
END:VTIMEZONE
BEGIN:VEVENT
DTSTART;TZID=Australia/Brisbane:20260219T000000
DTEND;TZID=Australia/Brisbane:20260219T235959
DTSTAMP:20260421T074559
CREATED:20260123T063307Z
LAST-MODIFIED:20260123T063307Z
UID:10000157-1771459200-1771545599@ages.com.au
SUMMARY:AGES Webinar - Beyond the Mesh
DESCRIPTION:AGES M&M Webinar \n\n\n\n \n\n\n\nThe AGES Webinar: Beyond Mesh – Laparoscopic Uterosacral Ligament Suspension and Vaginal Sacrospinous Fixation will be held on Thursday\, 19th February 2026 at 7:00pm AEDT. \n\n\n\nThis AGES webinar compares Laparoscopic uterosacral ligament suspension and Vaginal sacrospinous fixation. We explore technical advances\, alongside comparative outcomes and compartment-specific success. Join us to refine your mesh-free surgical strategies for durable apical support. \n\n\n\nFaciliated by Dr Supuni Kapurubandara Presented by Dr James Alexander and Dr Bernadette Brown\,  \n\n\n\n \n\n\n\n \n\n\n\n \n\n\n\n\n\n\n\nAGES Events & Workshops +61 7 3368 2422ages.com.auages@yrd.com.au
URL:https://ages.com.au/event/ages-webinar-beyond-the-mesh/
CATEGORIES:Webinars
ATTACH;FMTTYPE=image/png:https://ages.com.au/wp-content/uploads/2025/05/word-press-feature-images.png
END:VEVENT
BEGIN:VEVENT
DTSTART;TZID=Australia/Brisbane:20260506T000000
DTEND;TZID=Australia/Brisbane:20260506T235959
DTSTAMP:20260421T074559
CREATED:20260401T055354Z
LAST-MODIFIED:20260416T045410Z
UID:10000168-1778025600-1778111999@ages.com.au
SUMMARY:AGES Webinar - Heal While You Help: Clinician Wellbeing After Clinical Adversity
DESCRIPTION:AGES Webinar \n\n\n\n \n\n\n\nThe AGES Webinar – Heal While You Help: Clinician Wellbeing After Clinical Adversity\, presented by Dr Tabitha Healey and Dr Olivia Ong\, will be held on Wednesday\, 6th May 2026 at 7:00pm AEST. \n\n\n\nThe webinar aims to: \n\n\n\n\nNormalise the emotional and moral impact of caring for patients with chronic conditions (e.g. pain and endometriosis).\n\n\n\nRecognise signs of burnout\, compassion fatigue\, and moral injury specific to gynaecology/chronic pain practice.\n\n\n\nProvide practical tools for emotional regulation\, boundaries\, and self-compassion in consults with trauma-affected patients.\n\n\n\nExplore how to safely hold patient trauma stories without absorbing them.\n\n\n\nDiscuss team\, institutional\, and cultural supports that protect clinician wellbeing\n\n\n\n\nThis webinar is exclusive to AGES members and RANZCOG members only\, and registration is complimentary. \n\n\n\n \n\n\n\n \n\n\n\n\n\n\n\nAGES Events & Workshops +61 7 3368 2422ages.com.auages@yrd.com.au
URL:https://ages.com.au/event/ages-webinar-heal-while-you-help/
CATEGORIES:Webinars
ATTACH;FMTTYPE=image/png:https://ages.com.au/wp-content/uploads/2025/05/word-press-feature-images.png
END:VEVENT
END:VCALENDAR