BEGIN:VCALENDAR
VERSION:2.0
PRODID:-//AGES - ECPv6.15.20//NONSGML v1.0//EN
CALSCALE:GREGORIAN
METHOD:PUBLISH
X-WR-CALNAME:AGES
X-ORIGINAL-URL:https://ages.com.au
X-WR-CALDESC:Events for AGES
REFRESH-INTERVAL;VALUE=DURATION:PT1H
X-Robots-Tag:noindex
X-PUBLISHED-TTL:PT1H
BEGIN:VTIMEZONE
TZID:Australia/Brisbane
BEGIN:STANDARD
TZOFFSETFROM:+1000
TZOFFSETTO:+1000
TZNAME:AEST
DTSTART:20220101T000000
END:STANDARD
END:VTIMEZONE
BEGIN:VEVENT
DTSTART;TZID=Australia/Brisbane:20231115T180000
DTEND;TZID=Australia/Brisbane:20231115T210000
DTSTAMP:20260426T013038
CREATED:20230905T020531Z
LAST-MODIFIED:20231114T055441Z
UID:10000114-1700071200-1700082000@ages.com.au
SUMMARY:Mapping Your Future - Melbourne
DESCRIPTION:Are you a Trainee? Not sure how to get where you want to go in your career?Then come to the Mapping Your Future Seminar and hear from professionals in the field and learn how they made your dream their reality.AGES are partnering with Avant to bring this complimentary seminar to AGES Members in Melbourne. Come and listen to professionals in the fields of urogynaecology\, oncology\, IVF\, US\, obstetrics\, general O&G\, and more. \n\n\n\nRefreshments will begin at 6.15pm\, with the speakers starting at 6:30pm. Following the presentations\, there will be time for open discussion and the chance to ask questions. \n\n\n\nThis seminar is for AGES Members only and refreshments will be provided. Not a member of AGES? No problem – RANZCOG trainees are entitled to complimentary AGES Membership. So become a member and join us at a host of excellent AGES events. \n\n\n\n\nRegister Now\n\n\n\nProgram
URL:https://ages.com.au/event/mapping-your-future-melbourne/
LOCATION:Royal Women’s Hospital- Melbourne\, 7th Floor\, Seminar Rooms 7D and E\, 20 Flemington Rd\, Parkville\, Melbourne\, VIC\, 3000\, Australia
CATEGORIES:AGES Meetings & Conferences,Focus
ATTACH;FMTTYPE=image/jpeg:https://ages.com.au/wp-content/uploads/2023/09/Mapping-Your-Future-Workshops-e1693879284596.jpg
ORGANIZER;CN="AGES":MAILTO:secretariat@ages.com.au
END:VEVENT
BEGIN:VEVENT
DTSTART;TZID=Australia/Brisbane:20231122T183000
DTEND;TZID=Australia/Brisbane:20231122T210000
DTSTAMP:20260426T013038
CREATED:20230905T020919Z
LAST-MODIFIED:20231117T045718Z
UID:10000115-1700677800-1700686800@ages.com.au
SUMMARY:Mapping Your Future - Perth (cancelled)
DESCRIPTION:We wish to advise that due to lower-than-anticipated registration numbers for next week’s Mapping Your Future Seminar\, AGES\, in conjunction with Avant\, has made the decision to cancel this seminar. \n\n\n\nPlease ensure you check back for updates for all future events in 2024!
URL:https://ages.com.au/event/mapping-your-future-perth/
CATEGORIES:AGES Meetings & Conferences,Focus
ATTACH;FMTTYPE=image/jpeg:https://ages.com.au/wp-content/uploads/2023/09/Mapping-Your-Future-Workshops-e1693879284596.jpg
ORGANIZER;CN="AGES":MAILTO:secretariat@ages.com.au
END:VEVENT
BEGIN:VEVENT
DTSTART;TZID=Australia/Brisbane:20231125T071500
DTEND;TZID=Australia/Brisbane:20231125T173000
DTSTAMP:20260426T013038
CREATED:20230214T014223Z
LAST-MODIFIED:20231030T225829Z
UID:10000108-1700896500-1700933400@ages.com.au
SUMMARY:SOLD OUT - AGES Laparoscopic Anatomy & Pelvic Dissection (Lap-D) Workshop - November 25 2023
DESCRIPTION:The AGES Lap-D November Workshop is currently SOLD OUT. Please email ages@yrd.com.au to be added to the waitlist.  \n\n\n\nFor more information regarding our Lap-D Workshops\, please visit the website below.
URL:https://ages.com.au/event/ages-laparoscopic-anatomy-pelvic-dissection-lap-d-workshop-november-25-2023/
LOCATION:MERF Brisbane\, Staib Road\, Chermside\, QLD\, 4032\, Australia
CATEGORIES:AGES Workshops & Courses,Focus
ATTACH;FMTTYPE=image/png:https://ages.com.au/wp-content/uploads/2021/11/AGES-Lap-d-banners_1920-x-1008-12.png
END:VEVENT
END:VCALENDAR