BEGIN:VCALENDAR
VERSION:2.0
PRODID:-//AGES - ECPv6.15.20//NONSGML v1.0//EN
CALSCALE:GREGORIAN
METHOD:PUBLISH
X-ORIGINAL-URL:https://ages.com.au
X-WR-CALDESC:Events for AGES
REFRESH-INTERVAL;VALUE=DURATION:PT1H
X-Robots-Tag:noindex
X-PUBLISHED-TTL:PT1H
BEGIN:VTIMEZONE
TZID:Australia/Brisbane
BEGIN:STANDARD
TZOFFSETFROM:+1000
TZOFFSETTO:+1000
TZNAME:AEST
DTSTART:20240101T000000
END:STANDARD
END:VTIMEZONE
BEGIN:VEVENT
DTSTART;TZID=Australia/Brisbane:20250227T000000
DTEND;TZID=Australia/Brisbane:20250301T235959
DTSTAMP:20260422T210703
CREATED:20240626T044601Z
LAST-MODIFIED:20241105T034016Z
UID:10000134-1740614400-1740873599@ages.com.au
SUMMARY:AGES Annual Scientific Meeting 2025
DESCRIPTION:Visit https://events.ages.com.au/asm2025/ for more information
URL:https://ages.com.au/event/ages-annual-scientific-meeting-2025/
CATEGORIES:AGES Meetings & Conferences
ATTACH;FMTTYPE=image/png:https://ages.com.au/wp-content/uploads/2024/06/AGES-ASM-2025-Cover.png
END:VEVENT
END:VCALENDAR