BEGIN:VCALENDAR
VERSION:2.0
PRODID:-//AGES - ECPv6.15.20//NONSGML v1.0//EN
CALSCALE:GREGORIAN
METHOD:PUBLISH
X-ORIGINAL-URL:https://ages.com.au
X-WR-CALDESC:Events for AGES
REFRESH-INTERVAL;VALUE=DURATION:PT1H
X-Robots-Tag:noindex
X-PUBLISHED-TTL:PT1H
BEGIN:VTIMEZONE
TZID:Australia/Brisbane
BEGIN:STANDARD
TZOFFSETFROM:+1000
TZOFFSETTO:+1000
TZNAME:AEST
DTSTART:20190101T000000
END:STANDARD
END:VTIMEZONE
BEGIN:VEVENT
DTSTART;TZID=Australia/Brisbane:20200101T000000
DTEND;TZID=Australia/Brisbane:20201231T235900
DTSTAMP:20260422T213817
CREATED:20200124T015738Z
LAST-MODIFIED:20200124T051527Z
UID:10000080-1577836800-1609459140@ages.com.au
SUMMARY:AGES Seminars - Who do you want to be when you grow up?
DESCRIPTION:BRISBANE  \n\n\n\nPERTH \n\n\n\nSYDNEY \n\n\n\nLocations\, dates and times to be confirmed
URL:https://ages.com.au/event/ages-seminars-who-do-you-want-to-be-when-you-grow-up/
ATTACH;FMTTYPE=image/png:https://ages.com.au/wp-content/uploads/2020/01/AGES-Upcoming-event_1920-x-1008-01.png
END:VEVENT
BEGIN:VEVENT
DTSTART;TZID=Australia/Brisbane:20200910T000000
DTEND;TZID=Australia/Brisbane:20200912T235900
DTSTAMP:20260422T213817
CREATED:20191211T004909Z
LAST-MODIFIED:20200902T072425Z
UID:10000065-1599696000-1599955140@ages.com.au
SUMMARY:IGCS Global Meeting
DESCRIPTION:AGES Members receive a 10% discount\, please use the code ages2020 when registering.
URL:https://ages.com.au/event/igcs-global-meeting/
CATEGORIES:Other Society Events
END:VEVENT
BEGIN:VEVENT
DTSTART;TZID=Australia/Brisbane:20200910T190000
DTEND;TZID=Australia/Brisbane:20200910T210000
DTSTAMP:20260422T213817
CREATED:20200819T005438Z
LAST-MODIFIED:20200908T015342Z
UID:10000009-1599764400-1599771600@ages.com.au
SUMMARY:Queensland Virtual Seminar - Who Do You Want To Be When You Grow Up?
DESCRIPTION:Have you ever wondered…• How much training do you need?• How to get into a job\, and how difficult it may be?• What job opportunities are there in both public and private?• What are the overheads?• How you could change your future job prospects?• What your income prospects will be?• How you can deal with being on call and all the other onerous stuff? \n\n\n\nIf you want answers to any of the above\, join us! \n\n\n\nQueensland State Seminar – Who Do You Want To Be When You Grow UpThursday\, 10th September 20207.00pm AESTTo register\, please click here \n\n\n\nTo view the program\, please click here \n\n\n\nThis virtual seminar will feature QLD based presenters only to assist you with understanding your local area. \n\n\n\nNew Zealand\, WA & NSW seminar details coming soon.
URL:https://ages.com.au/event/queensland-virtual-seminar-who-do-you-want-to-be-when-you-grow-up/
CATEGORIES:AGES Workshops & Courses,Focus,Webinars
ATTACH;FMTTYPE=image/png:https://ages.com.au/wp-content/uploads/2020/01/AGES-Upcoming-event_1920-x-1008-01.png
END:VEVENT
END:VCALENDAR