BEGIN:VCALENDAR
VERSION:2.0
PRODID:-//AGES - ECPv5.0.2.1//NONSGML v1.0//EN
CALSCALE:GREGORIAN
METHOD:PUBLISH
X-WR-CALNAME:AGES
X-ORIGINAL-URL:https://ages.com.au
X-WR-CALDESC:Events for AGES
BEGIN:VTIMEZONE
TZID:Australia/Brisbane
BEGIN:STANDARD
TZOFFSETFROM:+1000
TZOFFSETTO:+1000
TZNAME:AEST
DTSTART:20210101T000000
END:STANDARD
END:VTIMEZONE
BEGIN:VEVENT
DTSTART;TZID=Australia/Brisbane:20211020T000000
DTEND;TZID=Australia/Brisbane:20211024T235900
DTSTAMP:20200228T152146
CREATED:20191211T010156Z
LAST-MODIFIED:20200206T044435Z
UID:3266-1634688000-1635119940@ages.com.au
SUMMARY:FIGO World Congress
DESCRIPTION:\n\n\n \n\n\n\n\n\n\n\n\n\n\n\n\n
URL:https://ages.com.au/event/figo-world-congress/
LOCATION:Sydney\, Australia\, Sydney\, New South Wales\, 2000\, Australia
CATEGORIES:Other Society Events
END:VEVENT
END:VCALENDAR