BEGIN:VCALENDAR
VERSION:2.0
PRODID:-//AGES - ECPv6.15.20//NONSGML v1.0//EN
CALSCALE:GREGORIAN
METHOD:PUBLISH
X-WR-CALNAME:AGES
X-ORIGINAL-URL:https://ages.com.au
X-WR-CALDESC:Events for AGES
REFRESH-INTERVAL;VALUE=DURATION:PT1H
X-Robots-Tag:noindex
X-PUBLISHED-TTL:PT1H
BEGIN:VTIMEZONE
TZID:Australia/Brisbane
BEGIN:STANDARD
TZOFFSETFROM:+1000
TZOFFSETTO:+1000
TZNAME:AEST
DTSTART:20240101T000000
END:STANDARD
END:VTIMEZONE
BEGIN:VEVENT
DTSTART;TZID=Australia/Brisbane:20251015T000000
DTEND;TZID=Australia/Brisbane:20251015T235959
DTSTAMP:20260421T013918
CREATED:20250717T014500Z
LAST-MODIFIED:20250911T053258Z
UID:15672-1760486400-1760572799@ages.com.au
SUMMARY:AGES M&M Webinar 2025
DESCRIPTION:AGES M&M Webinar \n\n\n\n \n\n\n\nThe AGES M&M Webinar will be held on Wednesday\, 15th October 2025 at 7pm AEDT. \n\n\n\nPlease save the date\, further information and links to register will be provided soon!   \n\n\n\n \n\n\n\n \n\n\n\n \n\n\n\n\n\n\n\nAGES Events & Workshops +61 7 3368 2422ages.com.auages@yrd.com.au
URL:https://ages.com.au/event/ages-mm-webinar-save-the-date/
CATEGORIES:Webinars
ATTACH;FMTTYPE=image/png:https://ages.com.au/wp-content/uploads/2025/05/word-press-feature-images.png
END:VEVENT
END:VCALENDAR