BEGIN:VCALENDAR
VERSION:2.0
PRODID:-//AGES - ECPv6.15.20//NONSGML v1.0//EN
CALSCALE:GREGORIAN
METHOD:PUBLISH
X-WR-CALNAME:AGES
X-ORIGINAL-URL:https://ages.com.au
X-WR-CALDESC:Events for AGES
REFRESH-INTERVAL;VALUE=DURATION:PT1H
X-Robots-Tag:noindex
X-PUBLISHED-TTL:PT1H
BEGIN:VTIMEZONE
TZID:Australia/Brisbane
BEGIN:STANDARD
TZOFFSETFROM:+1000
TZOFFSETTO:+1000
TZNAME:AEST
DTSTART:20220101T000000
END:STANDARD
END:VTIMEZONE
BEGIN:VEVENT
DTSTART;TZID=Australia/Brisbane:20230222T193000
DTEND;TZID=Australia/Brisbane:20230222T220000
DTSTAMP:20260422T190645
CREATED:20221215T050853Z
LAST-MODIFIED:20230208T054536Z
UID:10608-1677094200-1677103200@ages.com.au
SUMMARY:AGES Medtronic Webinar - Gynaecological Surgery Using a New RAS System
DESCRIPTION:AGES Medtronic Gynaecological Surgery Using a New RAS System Live Webinar – Member’s complimentary on the webinarWednesday 22nd February 2023 from 7.30pm AEDT. \n\n\n\n\n\n\n\nJoin live on the evening to be involved in live Q&A\, or watch it later through the members’ section of our AGES website. \n\n\n\n\n\n\n\n\n\n\n\n \n\n\n\n\nMedtronic HUGO RAS System – Surgical Robotics Reimagined
URL:https://ages.com.au/event/ages-medtronic-hugo-gyn-webinar-2023/
LOCATION:Virtual Event (Zoom)\, Australia
CATEGORIES:Focus,Webinars
ATTACH;FMTTYPE=image/png:https://ages.com.au/wp-content/uploads/2022/03/Event-tiles-for-AGES-website.png
ORGANIZER;CN="AGES":MAILTO:secretariat@ages.com.au
END:VEVENT
END:VCALENDAR