BEGIN:VCALENDAR
VERSION:2.0
PRODID:-//AGES - ECPv5.0.2.1//NONSGML v1.0//EN
CALSCALE:GREGORIAN
METHOD:PUBLISH
X-WR-CALNAME:AGES
X-ORIGINAL-URL:https://ages.com.au
X-WR-CALDESC:Events for AGES
BEGIN:VTIMEZONE
TZID:Australia/Brisbane
BEGIN:STANDARD
TZOFFSETFROM:+1000
TZOFFSETTO:+1000
TZNAME:AEST
DTSTART:20210101T000000
END:STANDARD
END:VTIMEZONE
BEGIN:VEVENT
DTSTART;TZID=Australia/Brisbane:20211114T000000
DTEND;TZID=Australia/Brisbane:20211118T235959
DTSTAMP:20200228T152448
CREATED:20200121T043353Z
LAST-MODIFIED:20200121T043724Z
UID:3588-1636848000-1637279999@ages.com.au
SUMMARY:50th AAGL Annual Global Congress on MIGS
DESCRIPTION:\n\n\n \n\n\n\n\n\n\n\n\n\n\n\n\n
URL:https://ages.com.au/event/50th-aagl-annual-global-congress-on-migs/
LOCATION:Austin Convention Center\, 6757 Katella Avenue\, Austin\, Texas\, 90630\, United States
CATEGORIES:Other Society Events
END:VEVENT
END:VCALENDAR