BEGIN:VCALENDAR
VERSION:2.0
PRODID:-//AGES - ECPv5.0.2.1//NONSGML v1.0//EN
CALSCALE:GREGORIAN
METHOD:PUBLISH
X-WR-CALNAME:AGES
X-ORIGINAL-URL:https://ages.com.au
X-WR-CALDESC:Events for AGES
BEGIN:VTIMEZONE
TZID:Australia/Brisbane
BEGIN:STANDARD
TZOFFSETFROM:+1000
TZOFFSETTO:+1000
TZNAME:AEST
DTSTART:20230101T000000
END:STANDARD
END:VTIMEZONE
BEGIN:VEVENT
DTSTART;TZID=Australia/Brisbane:20230101T000000
DTEND;TZID=Australia/Brisbane:20231231T235900
DTSTAMP:20200228T152509
CREATED:20200121T043705Z
LAST-MODIFIED:20200124T033947Z
UID:3590-1672531200-1704067140@ages.com.au
SUMMARY:15th World Congress on Endometriosis (WCE2023)
DESCRIPTION:\n\n\nThe 15th World Congress on Endometriosis in 2023 will be hosted by the city of Edinburgh in the United Kingdom.\n\n\n\nWCE2023 will be presided over by Professor Andrew Horne of the University of Edinburgh. He will be working with UK-wide colleagues from the UK Endometriosis and Pelvic Pain Network. Exact dates will be announced at a time nearer 2023. \n\n\n\n\n\n\n\n\n\n\n\n\n
URL:https://ages.com.au/event/15th-world-congress-on-endometriosis-wce2023/
LOCATION:Edinburgh\, United Kingdom
CATEGORIES:Other Society Events
END:VEVENT
END:VCALENDAR